BEGIN:VCALENDAR
VERSION:2.0
PRODID:-//eventon.com NONSGML v1.0//EN
CALSCALE:GREGORIAN
METHOD:PUBLISH
BEGIN:VEVENT
UID:69e89a97cc682
DTSTAMP:20260422T095327Z
DTSTART:20251024T013000Z
DTEND:20251024T030000Z
LOCATION:
SUMMARY:3rd Grade Boys - Player Evaluation 2
DESCRIPTION:3rd Grade Boys - Player Evaluation 2\nhttps://palousecougars.co
 m/events/3rd-grade-boys-player-evaluation-2/
URL:https://palousecougars.com/events/3rd-grade-boys-player-evaluation-2/
END:VEVENT
END:VCALENDAR